BEGIN:VCALENDAR
VERSION:2.0
PRODID:-//MIT AeroAstro - ECPv6.15.9//NONSGML v1.0//EN
CALSCALE:GREGORIAN
METHOD:PUBLISH
X-WR-CALNAME:MIT AeroAstro
X-ORIGINAL-URL:https://aeroastro.mit.edu
X-WR-CALDESC:Events for MIT AeroAstro
REFRESH-INTERVAL;VALUE=DURATION:PT1H
X-Robots-Tag:noindex
X-PUBLISHED-TTL:PT1H
BEGIN:VTIMEZONE
TZID:America/New_York
BEGIN:DAYLIGHT
TZOFFSETFROM:-0500
TZOFFSETTO:-0400
TZNAME:EDT
DTSTART:20250309T070000
END:DAYLIGHT
BEGIN:STANDARD
TZOFFSETFROM:-0400
TZOFFSETTO:-0500
TZNAME:EST
DTSTART:20251102T060000
END:STANDARD
BEGIN:DAYLIGHT
TZOFFSETFROM:-0500
TZOFFSETTO:-0400
TZNAME:EDT
DTSTART:20260308T070000
END:DAYLIGHT
BEGIN:STANDARD
TZOFFSETFROM:-0400
TZOFFSETTO:-0500
TZNAME:EST
DTSTART:20261101T060000
END:STANDARD
BEGIN:DAYLIGHT
TZOFFSETFROM:-0500
TZOFFSETTO:-0400
TZNAME:EDT
DTSTART:20270314T070000
END:DAYLIGHT
BEGIN:STANDARD
TZOFFSETFROM:-0400
TZOFFSETTO:-0500
TZNAME:EST
DTSTART:20271107T060000
END:STANDARD
END:VTIMEZONE
BEGIN:VEVENT
DTSTART;TZID=America/New_York:20260421T093000
DTEND;TZID=America/New_York:20260421T130000
DTSTAMP:20260421T024935
CREATED:20260324T001718Z
LAST-MODIFIED:20260324T001718Z
UID:10000163-1776763800-1776776400@aeroastro.mit.edu
SUMMARY:MIT/Harvard Aerospace Medical Symposium
DESCRIPTION:Join us for a gathering of students\, doctors\, and scientists featuring opening talks\, fireside chats\, and faculty panels by leaders in spaceflight biology and aerospace medicine\, along with plenty of time for networking and mingling with others passionate about space\, health\, and human performance. Light food\, refreshments\, and coffee will be available starting at 9:30am! A full schedule will be provided in the weeks to come – feel free to come to part or all!
URL:https://aeroastro.mit.edu/event/mit-harvard-aerospace-medical-symposium/
LOCATION:37-252\, 70 Vassar St\, Cambridge\, MA\, 02139\, United States
CATEGORIES:Lecture/Talk,Seminar,Special Event
END:VEVENT
END:VCALENDAR